BEGIN:VCALENDAR
VERSION:2.0
PRODID:-//CoreStack - ECPv6.15.11//NONSGML v1.0//EN
CALSCALE:GREGORIAN
METHOD:PUBLISH
X-ORIGINAL-URL:https://www.corestack.io
X-WR-CALDESC:Events for CoreStack
REFRESH-INTERVAL;VALUE=DURATION:PT1H
X-Robots-Tag:noindex
X-PUBLISHED-TTL:PT1H
BEGIN:VTIMEZONE
TZID:Asia/Kolkata
BEGIN:STANDARD
TZOFFSETFROM:+0530
TZOFFSETTO:+0530
TZNAME:IST
DTSTART:20240101T000000
END:STANDARD
END:VTIMEZONE
BEGIN:VTIMEZONE
TZID:America/New_York
BEGIN:DAYLIGHT
TZOFFSETFROM:-0500
TZOFFSETTO:-0400
TZNAME:EDT
DTSTART:20240310T070000
END:DAYLIGHT
BEGIN:STANDARD
TZOFFSETFROM:-0400
TZOFFSETTO:-0500
TZNAME:EST
DTSTART:20241103T060000
END:STANDARD
BEGIN:DAYLIGHT
TZOFFSETFROM:-0500
TZOFFSETTO:-0400
TZNAME:EDT
DTSTART:20250309T070000
END:DAYLIGHT
BEGIN:STANDARD
TZOFFSETFROM:-0400
TZOFFSETTO:-0500
TZNAME:EST
DTSTART:20251102T060000
END:STANDARD
BEGIN:DAYLIGHT
TZOFFSETFROM:-0500
TZOFFSETTO:-0400
TZNAME:EDT
DTSTART:20260308T070000
END:DAYLIGHT
BEGIN:STANDARD
TZOFFSETFROM:-0400
TZOFFSETTO:-0500
TZNAME:EST
DTSTART:20261101T060000
END:STANDARD
END:VTIMEZONE
BEGIN:VEVENT
DTSTART;TZID=Asia/Kolkata:20250116T110000
DTEND;TZID=Asia/Kolkata:20250116T120000
DTSTAMP:20260420T082200
CREATED:20250101T102201Z
LAST-MODIFIED:20250121T065057Z
UID:20257-1737025200-1737028800@www.corestack.io
SUMMARY:[On-Demand Webinar] The CoreStack Advantage: Beyond Cloud-Native Tools
DESCRIPTION:[On-Demand Webinar] The CoreStack Advantage: Beyond Cloud-Native Tools\nUnlock the full potential of your cloud investments with smarter cloud management! Imagine having unified visibility into your cloud spend\, breaking down silos\, and maximizing efficiency—all while enhancing the capabilities of your native cloud tools. \nAccess Recording on-demand for this exclusive webinar to discover how CoreStack empowers businesses to go beyond traditional cloud management and achieve true cloud optimization. \nWhen: Thursday\, January 16 | 11&colon;00 AM IST\nMeet Our Experts:\n\nShridhar Navalgund\, Senior Director – Sales & Partnerships\, CoreStack\nAnaranya Bagchi\, Cloud Solutions Architect\, CoreStack\n\nThis on-demand webinar recording will provide you with:\n\nMove Beyond Native Limitations: Uncover the hidden gaps in native cloud tools and how to overcome them\nGain Unified Visibility: Break down data silos and get a 360-degree view of your cloud spend\, compliance\, and performance\nOptimize Cloud Operations: Learn how CoreStack’s intelligent automation and predictive analytics enable you to maximize efficiency and reduce costs\nAchieve Governance at Scale: See how you can implement robust\, scalable governance frameworks across multi-cloud environments\n\nAccess Recording
URL:https://www.corestack.io/event/webinar-the-corestack-advantage-beyond-cloud-native-tools/
CATEGORIES:Webinar
ATTACH;FMTTYPE=image/png:https://www.corestack.io/wp-content/uploads/On-Demand-Webinar-The-CoreStack-Advantage-Beyond-Cloud-Native-Tools.png
END:VEVENT
BEGIN:VEVENT
DTSTART;VALUE=DATE:20250602
DTEND;VALUE=DATE:20250606
DTSTAMP:20260420T082200
CREATED:20250506T120750Z
LAST-MODIFIED:20250520T064322Z
UID:20315-1748822400-1749167999@www.corestack.io
SUMMARY:[Event] FinOps X 2025 in San Diego - Meet with CoreStack
DESCRIPTION:CoreStack is excited to be at FinOps X 2025 in San Diego\, CA\, from June 2 to June 5! \nMeet experts from CoreStack in San Diego at the annual conference for FinOps practitioners and cloud end-users. Prepare to go deeper (and even more technical) with content and get real-world FinOps experiences. Together\, we’ll also expand opportunities for richer connections from the open-source community. \nSign up for in-person meeting with CoreStack. \nWhen: June 2-5\, 2025\nWhere: San Diego\, CA\nLet's Meet In-Person
URL:https://www.corestack.io/event/event-finops-x-2025-in-san-diego-meet-with-corestack/
ATTACH;FMTTYPE=image/jpeg:https://www.corestack.io/wp-content/uploads/Going-to-FinOps-X-2025.jpg
END:VEVENT
BEGIN:VEVENT
DTSTART;VALUE=DATE:20250924
DTEND;VALUE=DATE:20250928
DTSTAMP:20260420T082200
CREATED:20250904T075440Z
LAST-MODIFIED:20250916T144758Z
UID:20841-1758672000-1759017599@www.corestack.io
SUMMARY:[Event] TD SYNNEX Inspire 2025 - Meet with CoreStack
DESCRIPTION:Going to TD SYNNEX Inspire 2025?. We would love to share how CoreStack delivers continuous\, autonomous governance capabilities across security\, compliance\, operations and cost\, enabling enterprises and partners to achieve reductions in cloud costs and boosts in operational efficiencies. \nCoreStack helps enterprises manage $2B+ in cloud spend with AI-powered governance. At TD SYNNEX Inspire 2025\, take our $1K Savings Challenge—prove hidden savings or we’ll pay you $1K. Limited to 10 qualified enterprises ($50K+ monthly cloud spend). Sign up now—T&Cs apply. \nWe now offer the only purpose-built platform that streamlines and scales the multi-cloud assessment process for MSPs\, VARs\, and SIs. Whether you’re assessing Well-Architected Frameworks (WAF) for AWS or Azure\, Google Cloud Adoption Framework (CAF)\, or custom frameworks\, get ready to revolutionize your business with CoreStack Assessments! \nEnhance your partnership with us and take advantage of a special offer: enjoy unrestricted access to one CoreStack Assessment for a customer of your choice*. This exclusive deal provides you with an opportunity to uncover opportunities for additional consumption and identify opportunities for professional and managed services that will also benefit your client. Don't miss this opportunity – reach out to us now to begin! \nBy choosing CoreStack\, not only are you empowering your customers with instant and enduring advantages\, but you’re also unlocking exciting new business opportunities and more lucrative managed services contracts. Let's make an impact together! \nWhen: September 24-27\, 2025\nWhere: Greenville Convention Center\, SC\nLet's Meet In-Person \n*Customer environment must meet certain requirements\, and the assessment must be completed within 90 days.
URL:https://www.corestack.io/event/event-td-synnex-inspire-2025-meet-with-corestack/
ATTACH;FMTTYPE=image/png:https://www.corestack.io/wp-content/uploads/TD-SYNNEX-Inspire-2025-Sign-Up-To-Meet-CoreStack-1.png
END:VEVENT
END:VCALENDAR